BEGIN:VCALENDAR
VERSION:2.0
PRODID:-//LEO Network//Training Calendar//EN
BEGIN:VEVENT
UID:event-5990@leo-network.com
DTSTAMP:20260422T155029Z
DTSTART:20240722T150000Z
DTEND:20240724T000000Z
SUMMARY:Interdiction Tactics/LEO DEN Team up
DESCRIPTION:Law Enforcement Training
Hosted by: ACE Interdiction Tactics

View event details:
https://www.leo-network.com/event/interdiction-tactics-leo-den-team-up-norman-ok-5990/
LOCATION:Norman, OK
URL:https://www.leo-network.com/event/interdiction-tactics-leo-den-team-up-norman-ok-5990/
END:VEVENT
END:VCALENDAR
