BEGIN:VCALENDAR
VERSION:2.0
PRODID:-//LEO Network//Training Calendar//EN
BEGIN:VEVENT
UID:event-5991@leo-network.com
DTSTAMP:20260424T171015Z
DTSTART:20240830T150000Z
DTEND:20240831T000000Z
SUMMARY:HT 101
DESCRIPTION:Law Enforcement Training
Hosted by: Stop Human Trafficking Now LLC

View event details:
https://www.leo-network.com/event/ht-101-anaheim-ca-5991/
LOCATION:Anaheim, CA
URL:https://www.leo-network.com/event/ht-101-anaheim-ca-5991/
END:VEVENT
END:VCALENDAR
