BEGIN:VCALENDAR
VERSION:2.0
PRODID:-//LEO Network//Training Calendar//EN
BEGIN:VEVENT
UID:event-6021@leo-network.com
DTSTAMP:20260422T161516Z
DTSTART:20241204T160000Z
DTEND:20241205T010000Z
SUMMARY:Seconds For Survival by Blue to Gold
DESCRIPTION:Law Enforcement Training
Hosted by: Blue to Gold Training

View event details:
https://www.leo-network.com/event/seconds-for-survival-by-blue-to-gold-topeka-ks-6021/
LOCATION:Topeka, KS
URL:https://www.leo-network.com/event/seconds-for-survival-by-blue-to-gold-topeka-ks-6021/
END:VEVENT
END:VCALENDAR
