BEGIN:VCALENDAR
VERSION:2.0
PRODID:-//LEO Network//Training Calendar//EN
BEGIN:VEVENT
UID:event-6023@leo-network.com
DTSTAMP:20260422T184739Z
DTSTART:20250110T160000Z
DTEND:20250111T010000Z
SUMMARY:Pursuing Advanced DUI Investigation by Blue to Gold
DESCRIPTION:Law Enforcement Training
Hosted by: Blue to Gold Training

View event details:
https://www.leo-network.com/event/pursuing-advanced-dui-investigation-by-blue-to-gold-universal-city-tx-6023/
LOCATION:Universal City, TX
URL:https://www.leo-network.com/event/pursuing-advanced-dui-investigation-by-blue-to-gold-universal-city-tx-6023/
END:VEVENT
END:VCALENDAR
