BEGIN:VCALENDAR
VERSION:2.0
PRODID:-//LEO Network//Training Calendar//EN
BEGIN:VEVENT
UID:event-6053@leo-network.com
DTSTAMP:20260422T184711Z
DTSTART:20251205T160000Z
DTEND:20251206T010000Z
SUMMARY:Mastering Proactive Policing for Patrol by Blue to Gold
DESCRIPTION:Law Enforcement Training
Hosted by: Blue to Gold Training

View event details:
https://www.leo-network.com/event/mastering-proactive-policing-for-patrol-by-blue-to-gold-universal-city-tx-6053/
LOCATION:Universal City, TX
URL:https://www.leo-network.com/event/mastering-proactive-policing-for-patrol-by-blue-to-gold-universal-city-tx-6053/
END:VEVENT
END:VCALENDAR
