BEGIN:VCALENDAR
VERSION:2.0
PRODID:-//LEO Network//Training Calendar//EN
BEGIN:VEVENT
UID:event-6131@leo-network.com
DTSTAMP:20260422T184738Z
DTSTART:20251130T160000Z
DTEND:20251201T010000Z
SUMMARY:Mastering Proactive Policing for Patrol
DESCRIPTION:Law Enforcement Training
Hosted by: Blue to Gold Training

View event details:
https://www.leo-network.com/event/mastering-proactive-policing-for-patrol-universal-city-tx-6131/
LOCATION:Universal City, TX
URL:https://www.leo-network.com/event/mastering-proactive-policing-for-patrol-universal-city-tx-6131/
END:VEVENT
END:VCALENDAR
