BEGIN:VCALENDAR
VERSION:2.0
PRODID:-//LEO Network//Training Calendar//EN
BEGIN:VEVENT
UID:event-6189@leo-network.com
DTSTAMP:20260421T153828Z
DTSTART:20250122T160000Z
DTEND:20250123T010000Z
SUMMARY:Body Language for Law Enforcement
DESCRIPTION:Law Enforcement Training
Hosted by: ONEFACE LLC

View event details:
https://www.leo-network.com/event/body-language-for-law-enforcement-scranton-pa-6189/
LOCATION:Scranton, PA
URL:https://www.leo-network.com/event/body-language-for-law-enforcement-scranton-pa-6189/
END:VEVENT
END:VCALENDAR
