BEGIN:VCALENDAR
VERSION:2.0
PRODID:-//LEO Network//Training Calendar//EN
BEGIN:VEVENT
UID:event-6192@leo-network.com
DTSTAMP:20260421T163801Z
DTSTART:20250123T160000Z
DTEND:20250124T010000Z
SUMMARY:Recognizing Pre-Attack Indicators
DESCRIPTION:Law Enforcement Training
Hosted by: ONEFACE LLC

View event details:
https://www.leo-network.com/event/recognizing-pre-attack-indicators-scranton-pa-6192/
LOCATION:Scranton, PA
URL:https://www.leo-network.com/event/recognizing-pre-attack-indicators-scranton-pa-6192/
END:VEVENT
END:VCALENDAR
