BEGIN:VCALENDAR
VERSION:2.0
PRODID:-//LEO Network//Training Calendar//EN
BEGIN:VEVENT
UID:event-6194@leo-network.com
DTSTAMP:20260423T022419Z
DTSTART:20250404T150000Z
DTEND:20250405T000000Z
SUMMARY:Recognizing Pre-Attack Indicators
DESCRIPTION:Law Enforcement Training
Hosted by: ONEFACE LLC

View event details:
https://www.leo-network.com/event/recognizing-pre-attack-indicators-robbinsdale-mn-6194/
LOCATION:Robbinsdale, MN
URL:https://www.leo-network.com/event/recognizing-pre-attack-indicators-robbinsdale-mn-6194/
END:VEVENT
END:VCALENDAR
