BEGIN:VCALENDAR
VERSION:2.0
PRODID:-//LEO Network//Training Calendar//EN
BEGIN:VEVENT
UID:event-6201@leo-network.com
DTSTAMP:20260422T141734Z
DTSTART:20241004T150000Z
DTEND:20241005T000000Z
SUMMARY:The Art of Interdiction 
DESCRIPTION:Law Enforcement Training
Hosted by: Justice Academy 

View event details:
https://www.leo-network.com/event/the-art-of-interdiction-shelbyville-ky-6201/
LOCATION:Shelbyville, KY
URL:https://www.leo-network.com/event/the-art-of-interdiction-shelbyville-ky-6201/
END:VEVENT
END:VCALENDAR
