BEGIN:VCALENDAR
VERSION:2.0
PRODID:-//LEO Network//Training Calendar//EN
BEGIN:VEVENT
UID:event-6224@leo-network.com
DTSTAMP:20260423T085021Z
DTSTART:20240927T150000Z
DTEND:20240929T000000Z
SUMMARY:24-31 Intermediate Handgun/Carbine Course
DESCRIPTION:Law Enforcement Training
Hosted by: Lighthorse Tactical, LLC

View event details:
https://www.leo-network.com/event/24-31-intermediate-handgun-carbine-course-calera-al-6224/
LOCATION:Calera, AL
URL:https://www.leo-network.com/event/24-31-intermediate-handgun-carbine-course-calera-al-6224/
END:VEVENT
END:VCALENDAR
