BEGIN:VCALENDAR
VERSION:2.0
PRODID:-//LEO Network//Training Calendar//EN
BEGIN:VEVENT
UID:event-6230@leo-network.com
DTSTAMP:20260424T124505Z
DTSTART:20241001T150000Z
DTEND:20241003T000000Z
SUMMARY:Surviving El Chapo
DESCRIPTION:Law Enforcement Training
Hosted by: Dynamic Police Training

View event details:
https://www.leo-network.com/event/surviving-el-chapo-commerce-ca-6230/
LOCATION:Commerce, CA
URL:https://www.leo-network.com/event/surviving-el-chapo-commerce-ca-6230/
END:VEVENT
END:VCALENDAR
