BEGIN:VCALENDAR
VERSION:2.0
PRODID:-//LEO Network//Training Calendar//EN
BEGIN:VEVENT
UID:event-6245@leo-network.com
DTSTAMP:20260421T165504Z
DTSTART:20241216T160000Z
DTEND:20241217T010000Z
SUMMARY:Anti-Human Trafficking  Awareness Training
DESCRIPTION:Law Enforcement Training
Hosted by: Dynamic Police Training

View event details:
https://www.leo-network.com/event/anti-human-trafficking-awareness-training-jessup-pa-6245/
LOCATION:Jessup, PA
URL:https://www.leo-network.com/event/anti-human-trafficking-awareness-training-jessup-pa-6245/
END:VEVENT
END:VCALENDAR
