BEGIN:VCALENDAR
VERSION:2.0
PRODID:-//LEO Network//Training Calendar//EN
BEGIN:VEVENT
UID:event-6262@leo-network.com
DTSTAMP:20260421T153821Z
DTSTART:20241028T150000Z
DTEND:20241029T000000Z
SUMMARY:Prostitution Operations (1-day)
DESCRIPTION:Law Enforcement Training
Hosted by: BS Narcotics

View event details:
https://www.leo-network.com/event/prostitution-operations-1-day-scranton-pa-6262/
LOCATION:Scranton, PA
URL:https://www.leo-network.com/event/prostitution-operations-1-day-scranton-pa-6262/
END:VEVENT
END:VCALENDAR
