BEGIN:VCALENDAR
VERSION:2.0
PRODID:-//LEO Network//Training Calendar//EN
BEGIN:VEVENT
UID:event-6263@leo-network.com
DTSTAMP:20260421T153725Z
DTSTART:20241029T150000Z
DTEND:20241030T000000Z
SUMMARY:Confidential Informants; Develop/Manage
DESCRIPTION:Law Enforcement Training
Hosted by: BS Narcotics

View event details:
https://www.leo-network.com/event/confidential-informants-develop-manage-scranton-pa-6263/
LOCATION:Scranton, PA
URL:https://www.leo-network.com/event/confidential-informants-develop-manage-scranton-pa-6263/
END:VEVENT
END:VCALENDAR
