BEGIN:VCALENDAR
VERSION:2.0
PRODID:-//LEO Network//Training Calendar//EN
BEGIN:VEVENT
UID:event-6267@leo-network.com
DTSTAMP:20260423T115227Z
DTSTART:20241205T160000Z
DTEND:20241206T010000Z
SUMMARY:The Ultimate K9 Handler by Blue to Gold
DESCRIPTION:Law Enforcement Training
Hosted by: Blue to Gold Training

View event details:
https://www.leo-network.com/event/the-ultimate-k9-handler-by-blue-to-gold-marion-nc-6267/
LOCATION:Marion, NC
URL:https://www.leo-network.com/event/the-ultimate-k9-handler-by-blue-to-gold-marion-nc-6267/
END:VEVENT
END:VCALENDAR
