BEGIN:VCALENDAR
VERSION:2.0
PRODID:-//LEO Network//Training Calendar//EN
BEGIN:VEVENT
UID:event-6314@leo-network.com
DTSTAMP:20260422T173022Z
DTSTART:20240921T150000Z
DTEND:20240922T000000Z
SUMMARY:Intro to RDS Handgun
DESCRIPTION:Law Enforcement Training
Hosted by: Paratus Forty-Six, LLC

View event details:
https://www.leo-network.com/event/intro-to-rds-handgun-bartlesville-ok-6314/
LOCATION:Bartlesville, OK
URL:https://www.leo-network.com/event/intro-to-rds-handgun-bartlesville-ok-6314/
END:VEVENT
END:VCALENDAR
