BEGIN:VCALENDAR
VERSION:2.0
PRODID:-//LEO Network//Training Calendar//EN
BEGIN:VEVENT
UID:event-6315@leo-network.com
DTSTAMP:20260422T172950Z
DTSTART:20241002T150000Z
DTEND:20241003T000000Z
SUMMARY:Handgun Skill Builder
DESCRIPTION:Law Enforcement Training
Hosted by: Paratus Forty-Six, LLC

View event details:
https://www.leo-network.com/event/handgun-skill-builder-bartlesville-ok-6315/
LOCATION:Bartlesville, OK
URL:https://www.leo-network.com/event/handgun-skill-builder-bartlesville-ok-6315/
END:VEVENT
END:VCALENDAR
