BEGIN:VCALENDAR
VERSION:2.0
PRODID:-//LEO Network//Training Calendar//EN
BEGIN:VEVENT
UID:event-6316@leo-network.com
DTSTAMP:20260422T172943Z
DTSTART:20241106T160000Z
DTEND:20241108T010000Z
SUMMARY:Handgun & Carbine Applications
DESCRIPTION:Law Enforcement Training
Hosted by: Paratus Forty-Six, LLC

View event details:
https://www.leo-network.com/event/handgun-carbine-applications-bartlesville-ok-6316/
LOCATION:Bartlesville, OK
URL:https://www.leo-network.com/event/handgun-carbine-applications-bartlesville-ok-6316/
END:VEVENT
END:VCALENDAR
