BEGIN:VCALENDAR
VERSION:2.0
PRODID:-//LEO Network//Training Calendar//EN
BEGIN:VEVENT
UID:event-6339@leo-network.com
DTSTAMP:20260423T115134Z
DTSTART:20250324T150000Z
DTEND:20250325T000000Z
SUMMARY:Dissecting Search & Seizure 
DESCRIPTION:Law Enforcement Training
Hosted by: Justice Academy 

View event details:
https://www.leo-network.com/event/dissecting-search-seizure-marion-nc-6339/
LOCATION:Marion, NC
URL:https://www.leo-network.com/event/dissecting-search-seizure-marion-nc-6339/
END:VEVENT
END:VCALENDAR
