BEGIN:VCALENDAR
VERSION:2.0
PRODID:-//LEO Network//Training Calendar//EN
BEGIN:VEVENT
UID:event-6378@leo-network.com
DTSTAMP:20260422T220257Z
DTSTART:20241119T160000Z
DTEND:20241122T010000Z
SUMMARY:Hands-On Vehicle Fire/Arson Investigation by LLRMI
DESCRIPTION:Law Enforcement Training
Hosted by: Legal and Liability Risk Management Institute

View event details:
https://www.leo-network.com/event/hands-on-vehicle-fire-arson-investigation-by-llrmi-burleson-tx-6378/
LOCATION:Burleson, TX
URL:https://www.leo-network.com/event/hands-on-vehicle-fire-arson-investigation-by-llrmi-burleson-tx-6378/
END:VEVENT
END:VCALENDAR
