BEGIN:VCALENDAR
VERSION:2.0
PRODID:-//LEO Network//Training Calendar//EN
BEGIN:VEVENT
UID:event-6389@leo-network.com
DTSTAMP:20260423T100545Z
DTSTART:20250311T150000Z
DTEND:20250314T000000Z
SUMMARY:Mastering Interview & Interrogation Techniques by LLRMI
DESCRIPTION:Law Enforcement Training
Hosted by: Legal and Liability Risk Management Institute

View event details:
https://www.leo-network.com/event/mastering-interview-interrogation-techniques-by-llrmi-saint-albans-wv-6389/
LOCATION:Saint Albans, WV
URL:https://www.leo-network.com/event/mastering-interview-interrogation-techniques-by-llrmi-saint-albans-wv-6389/
END:VEVENT
END:VCALENDAR
