BEGIN:VCALENDAR
VERSION:2.0
PRODID:-//LEO Network//Training Calendar//EN
BEGIN:VEVENT
UID:event-6392@leo-network.com
DTSTAMP:20260423T100457Z
DTSTART:20250408T150000Z
DTEND:20250410T000000Z
SUMMARY:Investigating Cases of Child Homicide by LLRMI
DESCRIPTION:Law Enforcement Training
Hosted by: Legal and Liability Risk Management Institute

View event details:
https://www.leo-network.com/event/investigating-cases-of-child-homicide-by-llrmi-saint-albans-wv-6392/
LOCATION:Saint Albans, WV
URL:https://www.leo-network.com/event/investigating-cases-of-child-homicide-by-llrmi-saint-albans-wv-6392/
END:VEVENT
END:VCALENDAR
