BEGIN:VCALENDAR
VERSION:2.0
PRODID:-//LEO Network//Training Calendar//EN
BEGIN:VEVENT
UID:event-6400@leo-network.com
DTSTAMP:20260422T213441Z
DTSTART:20250515T150000Z
DTEND:20250516T000000Z
SUMMARY:Recognizing Pre-Attack Indicators
DESCRIPTION:Law Enforcement Training
Hosted by: ONEFACE LLC

View event details:
https://www.leo-network.com/event/recognizing-pre-attack-indicators-lawrenceville-ga-6400/
LOCATION:Lawrenceville, GA
URL:https://www.leo-network.com/event/recognizing-pre-attack-indicators-lawrenceville-ga-6400/
END:VEVENT
END:VCALENDAR
