BEGIN:VCALENDAR
VERSION:2.0
PRODID:-//LEO Network//Training Calendar//EN
BEGIN:VEVENT
UID:event-6434@leo-network.com
DTSTAMP:20260421T165414Z
DTSTART:20240930T150000Z
DTEND:20241001T000000Z
SUMMARY:New Trends in Obtaining and Mapping Location Data for Police
DESCRIPTION:Law Enforcement Training
Hosted by: Badge Apps LLC

View event details:
https://www.leo-network.com/event/new-trends-in-obtaining-and-mapping-location-data-for-police-scranton-pa-6434/
LOCATION:Scranton, PA
URL:https://www.leo-network.com/event/new-trends-in-obtaining-and-mapping-location-data-for-police-scranton-pa-6434/
END:VEVENT
END:VCALENDAR
