BEGIN:VCALENDAR
VERSION:2.0
PRODID:-//LEO Network//Training Calendar//EN
BEGIN:VEVENT
UID:event-6435@leo-network.com
DTSTAMP:20260421T165415Z
DTSTART:20241001T150000Z
DTEND:20241002T000000Z
SUMMARY: IP, App & Internet Investigations for Police
DESCRIPTION:Law Enforcement Training
Hosted by: Badge Apps LLC

View event details:
https://www.leo-network.com/event/ip-app-internet-investigations-for-police-scranton-pa-6435/
LOCATION:Scranton, PA
URL:https://www.leo-network.com/event/ip-app-internet-investigations-for-police-scranton-pa-6435/
END:VEVENT
END:VCALENDAR
