BEGIN:VCALENDAR
VERSION:2.0
PRODID:-//LEO Network//Training Calendar//EN
BEGIN:VEVENT
UID:event-6436@leo-network.com
DTSTAMP:20260422T144518Z
DTSTART:20250113T160000Z
DTEND:20250114T010000Z
SUMMARY:New Trends in Obtaining and Mapping Location Data for Police
DESCRIPTION:Law Enforcement Training
Hosted by: Badge Apps LLC

View event details:
https://www.leo-network.com/event/new-trends-in-obtaining-and-mapping-location-data-for-police-springfield-mo-6436/
LOCATION:Springfield, MO
URL:https://www.leo-network.com/event/new-trends-in-obtaining-and-mapping-location-data-for-police-springfield-mo-6436/
END:VEVENT
END:VCALENDAR
