BEGIN:VCALENDAR
VERSION:2.0
PRODID:-//LEO Network//Training Calendar//EN
BEGIN:VEVENT
UID:event-6437@leo-network.com
DTSTAMP:20260422T144507Z
DTSTART:20250114T160000Z
DTEND:20250115T010000Z
SUMMARY: IP, App & Internet Investigations for Police
DESCRIPTION:Law Enforcement Training
Hosted by: Badge Apps LLC

View event details:
https://www.leo-network.com/event/ip-app-internet-investigations-for-police-springfield-mo-6437/
LOCATION:Springfield, MO
URL:https://www.leo-network.com/event/ip-app-internet-investigations-for-police-springfield-mo-6437/
END:VEVENT
END:VCALENDAR
