BEGIN:VCALENDAR
VERSION:2.0
PRODID:-//LEO Network//Training Calendar//EN
BEGIN:VEVENT
UID:event-6448@leo-network.com
DTSTAMP:20260423T022414Z
DTSTART:20241028T150000Z
DTEND:20241002T000000Z
SUMMARY:Commercial Vehicle Crash Investigation - Level II 
DESCRIPTION:Law Enforcement Training
Hosted by: Institute of Police Technology and Management (IPTM)

View event details:
https://www.leo-network.com/event/commercial-vehicle-crash-investigation-level-ii-manchester-nh-6448/
LOCATION:Manchester, NH
URL:https://www.leo-network.com/event/commercial-vehicle-crash-investigation-level-ii-manchester-nh-6448/
END:VEVENT
END:VCALENDAR
