BEGIN:VCALENDAR
VERSION:2.0
PRODID:-//LEO Network//Training Calendar//EN
BEGIN:VEVENT
UID:event-6449@leo-network.com
DTSTAMP:20260424T030009Z
DTSTART:20250224T160000Z
DTEND:20250301T010000Z
SUMMARY:Commercial Vehicle Crash Investigation - Level II 
DESCRIPTION:Law Enforcement Training
Hosted by: Institute of Police Technology and Management (IPTM)

View event details:
https://www.leo-network.com/event/commercial-vehicle-crash-investigation-level-ii-carlsbad-nm-6449/
LOCATION:Carlsbad, NM
URL:https://www.leo-network.com/event/commercial-vehicle-crash-investigation-level-ii-carlsbad-nm-6449/
END:VEVENT
END:VCALENDAR
