BEGIN:VCALENDAR
VERSION:2.0
PRODID:-//LEO Network//Training Calendar//EN
BEGIN:VEVENT
UID:event-6476@leo-network.com
DTSTAMP:20260421T203244Z
DTSTART:20241028T150000Z
DTEND:20241002T000000Z
SUMMARY:Pedestrian/Bicycle Crash Investigation - Level II
DESCRIPTION:Law Enforcement Training
Hosted by: Institute of Police Technology and Management (IPTM)

View event details:
https://www.leo-network.com/event/pedestrian-bicycle-crash-investigation-level-ii-windsor-locks-ct-6476/
LOCATION:Windsor Locks, CT
URL:https://www.leo-network.com/event/pedestrian-bicycle-crash-investigation-level-ii-windsor-locks-ct-6476/
END:VEVENT
END:VCALENDAR
