BEGIN:VCALENDAR
VERSION:2.0
PRODID:-//LEO Network//Training Calendar//EN
BEGIN:VEVENT
UID:event-6486@leo-network.com
DTSTAMP:20260424T030004Z
DTSTART:20250217T160000Z
DTEND:20250222T010000Z
SUMMARY:Commercial Vehicle Crash Investigation - Level I
DESCRIPTION:Law Enforcement Training
Hosted by: Institute of Police Technology and Management (IPTM)

View event details:
https://www.leo-network.com/event/commercial-vehicle-crash-investigation-level-i-carlsbad-nm-6486/
LOCATION:Carlsbad, NM
URL:https://www.leo-network.com/event/commercial-vehicle-crash-investigation-level-i-carlsbad-nm-6486/
END:VEVENT
END:VCALENDAR
