BEGIN:VCALENDAR
VERSION:2.0
PRODID:-//LEO Network//Training Calendar//EN
BEGIN:VEVENT
UID:event-6501@leo-network.com
DTSTAMP:20260422T132119Z
DTSTART:20250414T150000Z
DTEND:20250419T000000Z
SUMMARY:Deviant Sexual Behavior and Related Criminal Activity
DESCRIPTION:Law Enforcement Training
Hosted by: Institute of Police Technology and Management (IPTM)

View event details:
https://www.leo-network.com/event/deviant-sexual-behavior-and-related-criminal-activity-land-o-lakes-fl-6501/
LOCATION:Land O&#039; Lakes, FL
URL:https://www.leo-network.com/event/deviant-sexual-behavior-and-related-criminal-activity-land-o-lakes-fl-6501/
END:VEVENT
END:VCALENDAR
