BEGIN:VCALENDAR
VERSION:2.0
PRODID:-//LEO Network//Training Calendar//EN
BEGIN:VEVENT
UID:event-6527@leo-network.com
DTSTAMP:20260422T220235Z
DTSTART:20241216T160000Z
DTEND:20241219T010000Z
SUMMARY:Medical Foundations of Visual Systems Testing  
DESCRIPTION:Law Enforcement Training
Hosted by: Institute of Police Technology and Management (IPTM)

View event details:
https://www.leo-network.com/event/medical-foundations-of-visual-systems-testing-forsyth-ga-6527/
LOCATION:Forsyth, GA
URL:https://www.leo-network.com/event/medical-foundations-of-visual-systems-testing-forsyth-ga-6527/
END:VEVENT
END:VCALENDAR
