BEGIN:VCALENDAR
VERSION:2.0
PRODID:-//LEO Network//Training Calendar//EN
BEGIN:VEVENT
UID:event-6544@leo-network.com
DTSTAMP:20260422T202321Z
DTSTART:20250113T160000Z
DTEND:20250117T010000Z
SUMMARY:Management of the K-9 Unit
DESCRIPTION:Law Enforcement Training
Hosted by: Institute of Police Technology and Management (IPTM)

View event details:
https://www.leo-network.com/event/management-of-the-k-9-unit-austell-ga-6544/
LOCATION:Austell, GA
URL:https://www.leo-network.com/event/management-of-the-k-9-unit-austell-ga-6544/
END:VEVENT
END:VCALENDAR
