BEGIN:VCALENDAR
VERSION:2.0
PRODID:-//LEO Network//Training Calendar//EN
BEGIN:VEVENT
UID:event-6569@leo-network.com
DTSTAMP:20260421T141410Z
DTSTART:20241216T160000Z
DTEND:20241218T010000Z
SUMMARY:Advanced Roadside Impaired Driving Enforcement
DESCRIPTION:Law Enforcement Training
Hosted by: Institute of Police Technology and Management (IPTM)

View event details:
https://www.leo-network.com/event/advanced-roadside-impaired-driving-enforcement-pensacola-fl-6569/
LOCATION:Pensacola, FL
URL:https://www.leo-network.com/event/advanced-roadside-impaired-driving-enforcement-pensacola-fl-6569/
END:VEVENT
END:VCALENDAR
