BEGIN:VCALENDAR
VERSION:2.0
PRODID:-//LEO Network//Training Calendar//EN
BEGIN:VEVENT
UID:event-6573@leo-network.com
DTSTAMP:20260421T130318Z
DTSTART:20241202T160000Z
DTEND:20241205T010000Z
SUMMARY:DWI Detection and Standardized Field Sobriety Testing (SFST)
DESCRIPTION:Law Enforcement Training
Hosted by: Institute of Police Technology and Management (IPTM)

View event details:
https://www.leo-network.com/event/dwi-detection-and-standardized-field-sobriety-testing-sfst-cape-coral-fl-6573/
LOCATION:Cape Coral, FL
URL:https://www.leo-network.com/event/dwi-detection-and-standardized-field-sobriety-testing-sfst-cape-coral-fl-6573/
END:VEVENT
END:VCALENDAR
