BEGIN:VCALENDAR
VERSION:2.0
PRODID:-//LEO Network//Training Calendar//EN
BEGIN:VEVENT
UID:event-6593@leo-network.com
DTSTAMP:20260424T184455Z
DTSTART:20250108T160000Z
DTEND:20250109T010000Z
SUMMARY:Advanced Search & Seizure by Blue to Gold
DESCRIPTION:Law Enforcement Training
Hosted by: Blue to Gold Training

View event details:
https://www.leo-network.com/event/advanced-search-seizure-by-blue-to-gold-costa-mesa-ca-6593/
LOCATION:Costa Mesa, CA
URL:https://www.leo-network.com/event/advanced-search-seizure-by-blue-to-gold-costa-mesa-ca-6593/
END:VEVENT
END:VCALENDAR
