BEGIN:VCALENDAR
VERSION:2.0
PRODID:-//LEO Network//Training Calendar//EN
BEGIN:VEVENT
UID:event-6594@leo-network.com
DTSTAMP:20260424T183019Z
DTSTART:20250109T160000Z
DTEND:20250110T010000Z
SUMMARY:Advanced Traffic Stops by Blue to Gold
DESCRIPTION:Law Enforcement Training
Hosted by: Blue to Gold Training

View event details:
https://www.leo-network.com/event/advanced-traffic-stops-by-blue-to-gold-costa-mesa-ca-6594/
LOCATION:Costa Mesa, CA
URL:https://www.leo-network.com/event/advanced-traffic-stops-by-blue-to-gold-costa-mesa-ca-6594/
END:VEVENT
END:VCALENDAR
