BEGIN:VCALENDAR
VERSION:2.0
PRODID:-//LEO Network//Training Calendar//EN
BEGIN:VEVENT
UID:event-6615@leo-network.com
DTSTAMP:20260422T161517Z
DTSTART:20250513T150000Z
DTEND:20250515T000000Z
SUMMARY:Investigative Interviewing: From Information to Evidence by Blue to Gold
DESCRIPTION:Law Enforcement Training
Hosted by: Blue to Gold Training

View event details:
https://www.leo-network.com/event/investigative-interviewing-from-information-to-evidence-by-blue-to-gold-topeka-ks-6615/
LOCATION:Topeka, KS
URL:https://www.leo-network.com/event/investigative-interviewing-from-information-to-evidence-by-blue-to-gold-topeka-ks-6615/
END:VEVENT
END:VCALENDAR
