BEGIN:VCALENDAR
VERSION:2.0
PRODID:-//LEO Network//Training Calendar//EN
BEGIN:VEVENT
UID:event-6632@leo-network.com
DTSTAMP:20260421T165426Z
DTSTART:20251215T160000Z
DTEND:20251216T010000Z
SUMMARY:Social Media and Open Source Investigations
DESCRIPTION:Law Enforcement Training
Hosted by: Blue to Gold Training

View event details:
https://www.leo-network.com/event/social-media-and-open-source-investigations-eddystone-pa-6632/
LOCATION:Eddystone, PA
URL:https://www.leo-network.com/event/social-media-and-open-source-investigations-eddystone-pa-6632/
END:VEVENT
END:VCALENDAR
