BEGIN:VCALENDAR
VERSION:2.0
PRODID:-//LEO Network//Training Calendar//EN
BEGIN:VEVENT
UID:event-6658@leo-network.com
DTSTAMP:20260421T180802Z
DTSTART:20250602T150000Z
DTEND:20250603T000000Z
SUMMARY:Social Media and Open Source Investigations
DESCRIPTION:Law Enforcement Training
Hosted by: Blue to Gold Training

View event details:
https://www.leo-network.com/event/social-media-and-open-source-investigations-jessup-pa-6658/
LOCATION:Jessup, PA
URL:https://www.leo-network.com/event/social-media-and-open-source-investigations-jessup-pa-6658/
END:VEVENT
END:VCALENDAR
