BEGIN:VCALENDAR
VERSION:2.0
PRODID:-//LEO Network//Training Calendar//EN
BEGIN:VEVENT
UID:event-6695@leo-network.com
DTSTAMP:20260422T220234Z
DTSTART:20251006T150000Z
DTEND:20251007T000000Z
SUMMARY:The Art of Interdiction 
DESCRIPTION:Law Enforcement Training
Hosted by: Justice Academy 

View event details:
https://www.leo-network.com/event/the-art-of-interdiction-peachtree-city-ga-6695/
LOCATION:Peachtree City , GA
URL:https://www.leo-network.com/event/the-art-of-interdiction-peachtree-city-ga-6695/
END:VEVENT
END:VCALENDAR
