BEGIN:VCALENDAR
VERSION:2.0
PRODID:-//LEO Network//Training Calendar//EN
BEGIN:VEVENT
UID:event-6753@leo-network.com
DTSTAMP:20260422T102219Z
DTSTART:20241029T150000Z
DTEND:20241030T000000Z
SUMMARY:Body Language for Law Enforcement
DESCRIPTION:Law Enforcement Training
Hosted by: ONEFACE LLC

View event details:
https://www.leo-network.com/event/body-language-for-law-enforcement-hartford-ct-6753/
LOCATION:Hartford, CT
URL:https://www.leo-network.com/event/body-language-for-law-enforcement-hartford-ct-6753/
END:VEVENT
END:VCALENDAR
