BEGIN:VCALENDAR
VERSION:2.0
PRODID:-//LEO Network//Training Calendar//EN
BEGIN:VEVENT
UID:event-6756@leo-network.com
DTSTAMP:20260423T022413Z
DTSTART:20250113T160000Z
DTEND:20250114T010000Z
SUMMARY:Body Language for Law Enforcement
DESCRIPTION:Law Enforcement Training
Hosted by: ONEFACE LLC

View event details:
https://www.leo-network.com/event/body-language-for-law-enforcement-collegedale-tn-6756/
LOCATION:Collegedale, TN
URL:https://www.leo-network.com/event/body-language-for-law-enforcement-collegedale-tn-6756/
END:VEVENT
END:VCALENDAR
