BEGIN:VCALENDAR
VERSION:2.0
PRODID:-//LEO Network//Training Calendar//EN
BEGIN:VEVENT
UID:event-6758@leo-network.com
DTSTAMP:20260423T071637Z
DTSTART:20250224T160000Z
DTEND:20250225T010000Z
SUMMARY:Body Language for Law Enforcement
DESCRIPTION:Law Enforcement Training
Hosted by: ONEFACE LLC

View event details:
https://www.leo-network.com/event/body-language-for-law-enforcement-huntersville-nc-6758/
LOCATION:Huntersville, NC
URL:https://www.leo-network.com/event/body-language-for-law-enforcement-huntersville-nc-6758/
END:VEVENT
END:VCALENDAR
