BEGIN:VCALENDAR
VERSION:2.0
PRODID:-//LEO Network//Training Calendar//EN
BEGIN:VEVENT
UID:event-6759@leo-network.com
DTSTAMP:20260423T100636Z
DTSTART:20250306T160000Z
DTEND:20250307T010000Z
SUMMARY:Body Language for Law Enforcement
DESCRIPTION:Law Enforcement Training
Hosted by: ONEFACE LLC

View event details:
https://www.leo-network.com/event/body-language-for-law-enforcement-wichita-falls-tx-6759/
LOCATION:Wichita Falls, TX
URL:https://www.leo-network.com/event/body-language-for-law-enforcement-wichita-falls-tx-6759/
END:VEVENT
END:VCALENDAR
