BEGIN:VCALENDAR
VERSION:2.0
PRODID:-//LEO Network//Training Calendar//EN
BEGIN:VEVENT
UID:event-6761@leo-network.com
DTSTAMP:20260422T231139Z
DTSTART:20250428T150000Z
DTEND:20250429T000000Z
SUMMARY:Body Language for Law Enforcement
DESCRIPTION:Law Enforcement Training
Hosted by: ONEFACE LLC

View event details:
https://www.leo-network.com/event/body-language-for-law-enforcement-west-haven-ct-6761/
LOCATION:West Haven , CT
URL:https://www.leo-network.com/event/body-language-for-law-enforcement-west-haven-ct-6761/
END:VEVENT
END:VCALENDAR
