BEGIN:VCALENDAR
VERSION:2.0
PRODID:-//LEO Network//Training Calendar//EN
BEGIN:VEVENT
UID:event-6764@leo-network.com
DTSTAMP:20260422T195646Z
DTSTART:20250520T150000Z
DTEND:20250521T000000Z
SUMMARY:Body Language for Law Enforcement
DESCRIPTION:Law Enforcement Training
Hosted by: ONEFACE LLC

View event details:
https://www.leo-network.com/event/body-language-for-law-enforcement-sheboygan-wi-6764/
LOCATION:Sheboygan, WI
URL:https://www.leo-network.com/event/body-language-for-law-enforcement-sheboygan-wi-6764/
END:VEVENT
END:VCALENDAR
