BEGIN:VCALENDAR
VERSION:2.0
PRODID:-//LEO Network//Training Calendar//EN
BEGIN:VEVENT
UID:event-6765@leo-network.com
DTSTAMP:20260422T154942Z
DTSTART:20250612T150000Z
DTEND:20250613T000000Z
SUMMARY:Body Language for Law Enforcement
DESCRIPTION:Law Enforcement Training
Hosted by: ONEFACE LLC

View event details:
https://www.leo-network.com/event/body-language-for-law-enforcement-fort-collins-co-6765/
LOCATION:Fort Collins, CO
URL:https://www.leo-network.com/event/body-language-for-law-enforcement-fort-collins-co-6765/
END:VEVENT
END:VCALENDAR
